BEGIN:VCALENDAR
VERSION:2.0
PRODID:-//Kiwanis Casa Loma - ECPv6.15.20//NONSGML v1.0//EN
CALSCALE:GREGORIAN
METHOD:PUBLISH
X-ORIGINAL-URL:https://kiwanisclubcasaloma.ca
X-WR-CALDESC:Events for Kiwanis Casa Loma
REFRESH-INTERVAL;VALUE=DURATION:PT1H
X-Robots-Tag:noindex
X-PUBLISHED-TTL:PT1H
BEGIN:VTIMEZONE
TZID:America/Halifax
BEGIN:DAYLIGHT
TZOFFSETFROM:-0400
TZOFFSETTO:-0300
TZNAME:ADT
DTSTART:20240310T060000
END:DAYLIGHT
BEGIN:STANDARD
TZOFFSETFROM:-0300
TZOFFSETTO:-0400
TZNAME:AST
DTSTART:20241103T050000
END:STANDARD
BEGIN:DAYLIGHT
TZOFFSETFROM:-0400
TZOFFSETTO:-0300
TZNAME:ADT
DTSTART:20250309T060000
END:DAYLIGHT
BEGIN:STANDARD
TZOFFSETFROM:-0300
TZOFFSETTO:-0400
TZNAME:AST
DTSTART:20251102T050000
END:STANDARD
BEGIN:DAYLIGHT
TZOFFSETFROM:-0400
TZOFFSETTO:-0300
TZNAME:ADT
DTSTART:20260308T060000
END:DAYLIGHT
BEGIN:STANDARD
TZOFFSETFROM:-0300
TZOFFSETTO:-0400
TZNAME:AST
DTSTART:20261101T050000
END:STANDARD
END:VTIMEZONE
BEGIN:VEVENT
DTSTART;TZID=America/Halifax:20250325T180000
DTEND;TZID=America/Halifax:20250325T200000
DTSTAMP:20260422T061227
CREATED:20250225T203810Z
LAST-MODIFIED:20260223T234524Z
UID:3067-1742925600-1742932800@kiwanisclubcasaloma.ca
SUMMARY:Key Club President’s Dinner 2025
DESCRIPTION:The Kiwanis Club of Casa Loma invites you to the Key Club Presidents Dinner on Tuesday\, March 25\, 2025\, at 6:00 p.m. at Casa Loma. We are excited to honour the commitment and dedication of Key Clubs\, and to enjoy a delicious 3-course meal in the Library! \nThe programme will introduce the Presidents from the 12 Key Clubs in Division 5 who will be asked to describe their most meaningful volunteer or fundraising activity and how they are making a difference in their community. \nThe cost for the event is $55.00 per person for non-members and $50.00 for Kiwanis Club of Casa members. \nCasa Loma is located at 1 Austin Terrace. Parking is $20.00 at Casa Loma\, and there is a lower fee at the George Brown Parking Lot just south of Casa Loma. Complimentary coat check\, non-alcoholic beverages and event venue are provided by Nick Di Donato\, CEO and President of Liberty Entertainment Group. We are very grateful for Mr. Di Donato‘s generous support for our functions at Casa Loma. \nPlease complete the Registration Form by Wednesday\, March 5\, 2025. \n\n\n                \n                        \n                             \n                        \n                        Name(Required)\n                            \n                            \n                                                    \n                                                    First\n                                                \n                            \n                            \n                                                    \n                                                    Last\n                                                \n                            \n                        Email(Required)\n                            \n                        Phone(Required)I Am A ...(Required)Please choose from one of the following options:PrincipalFaculty AdvisorKey Club MemberKiwanis Club of Casa Loma MemberI am a guestMember of another Kiwanis ClubNot a Member of any Kiwanis clubWhich Kiwanis Club are you from?(Required)Choose one ...BramptonEast YorkKingsway/HumberMississaugaRiverdaleScarboroughTorontoToronto/CaribbeanWhich school are you from?(Required)Choose one ...A.Y. JacksonBill CrothersCentral TechFather John RedmondHarbordMarc GarneauMartingroveParkdaleRichviewSt. Francis XavierSt. JosehphThistletownTurner FentonWoburnYork MemorialWhich school are you from?(Required)Choose one ...A.Y. JacksonBill CrothersCentral TechFather John RedmondHarbordMarc GarneauMartingroveParkdaleRichviewSt. Francis XavierSt. JosehphThistletownTurner FentonWoburnYork MemorialWhich school are you from?(Required)Choose one ...A.Y. JacksonBill CrothersCentral TechFather John RedmondHarbordMarc GarneauMartingroveParkdaleRichviewSt. Francis XavierSt. JosehphThistletownTurner FentonWoburnYork MemorialWho are you a guest of?(Required)Please indicate your dietary preference:(Required)\n								\n								Vegetarian\n							\n								\n								Vegan\n							\n								\n								Gluten Free\n							\n								\n								No preference\n							Please indicate any dietary restrictions:(Required)\n								\n								No Nuts\n							\n								\n								No Dairy\n							\n								\n								No Shellfish\n							\n								\n								Not Applicable\n							\n								\n								Other\n							Please share additional details of your dietary restriction(s):(Required)Member Fee(Required)\n					\n					\n						Price:\n							\n					\n					\n				Non Member Fee(Required)\n					\n					\n						Price:\n							\n					\n					\n				Number of Tickets Requested(Required)Number of Tickets Requested(Required)Number of Tickets Requested(Required)Total\n							\n						Credit CardCard Details\n					\n					Cardholder Name
URL:https://kiwanisclubcasaloma.ca/event/key-club-presidents-dinner-2025/
LOCATION:Casa Loma\, 1 Austin Terrace\, Toronto\, Ontario\, M5R 1X8
CATEGORIES:Key Club
ATTACH;FMTTYPE=image/jpeg:https://kiwanisclubcasaloma.ca/wp-content/uploads/2025/02/dinner-banquet-presidents-dinner-2025.jpg
END:VEVENT
END:VCALENDAR