BEGIN:VCALENDAR
VERSION:2.0
PRODID:-//Kiwanis Casa Loma - ECPv6.15.20//NONSGML v1.0//EN
CALSCALE:GREGORIAN
METHOD:PUBLISH
X-ORIGINAL-URL:https://kiwanisclubcasaloma.ca
X-WR-CALDESC:Events for Kiwanis Casa Loma
REFRESH-INTERVAL;VALUE=DURATION:PT1H
X-Robots-Tag:noindex
X-PUBLISHED-TTL:PT1H
BEGIN:VTIMEZONE
TZID:America/Halifax
BEGIN:DAYLIGHT
TZOFFSETFROM:-0400
TZOFFSETTO:-0300
TZNAME:ADT
DTSTART:20210314T060000
END:DAYLIGHT
BEGIN:STANDARD
TZOFFSETFROM:-0300
TZOFFSETTO:-0400
TZNAME:AST
DTSTART:20211107T050000
END:STANDARD
BEGIN:DAYLIGHT
TZOFFSETFROM:-0400
TZOFFSETTO:-0300
TZNAME:ADT
DTSTART:20220313T060000
END:DAYLIGHT
BEGIN:STANDARD
TZOFFSETFROM:-0300
TZOFFSETTO:-0400
TZNAME:AST
DTSTART:20221106T050000
END:STANDARD
BEGIN:DAYLIGHT
TZOFFSETFROM:-0400
TZOFFSETTO:-0300
TZNAME:ADT
DTSTART:20230312T060000
END:DAYLIGHT
BEGIN:STANDARD
TZOFFSETFROM:-0300
TZOFFSETTO:-0400
TZNAME:AST
DTSTART:20231105T050000
END:STANDARD
END:VTIMEZONE
BEGIN:VEVENT
DTSTART;TZID=America/Halifax:20220726T180000
DTEND;TZID=America/Halifax:20220726T233000
DTSTAMP:20260422T192832
CREATED:20220401T042053Z
LAST-MODIFIED:20220706T203136Z
UID:1608-1658858400-1658878200@kiwanisclubcasaloma.ca
SUMMARY:100th Anniversary Gala
DESCRIPTION:The Kiwanis Club of Casa Loma (KCCL) is celebrating 100 years of Service & Volunteerism in Toronto. KCCL is partnering with the Indigenous Spirit Fund (ISF)\, the philanthropic arm of Native Child and Family Services of Toronto (NCFST)\, to raise awareness and to build a brighter future for Indigenous children\, youth and their families. \nPlease join us at the iconic Casa Loma for an evening of festivities. Tickets will include: \n\nAccess to a guided tour of the Casa Loma\nSumptuous floating dinner with 2 drinks (Cash Bar available)\nDynamic speaker\, Kenn Richard\, Founder of NCFST & Director of the ISF with colleagues and dignitaries\nLaunch of “A Century of Service” written by W. John Maize\nTraditional Indigenous drumming ceremony\nSilent auction with all proceeds going to support the ISF\nMemories captured in the Photo Booth\nPerformances by winners of the 2022 Toronto Kiwanis Music Festival\nLive entertainment & dancing with the Fraser Melvin Band.\n\nThe Gala will begin at 6 p.m. and will conclude at 11:30 p.m. Buy your tickets below. We look forward to celebrating a century of service together at Casa Loma on July 26th\, 2022!
URL:https://kiwanisclubcasaloma.ca/event/100th-anniversary-gala/
LOCATION:Casa Loma\, 1 Austin Terrace\, Toronto\, Ontario\, M5R 1X8
CATEGORIES:Celebration
ATTACH;FMTTYPE=image/jpeg:https://kiwanisclubcasaloma.ca/wp-content/uploads/2022/03/casa-loma-100-banner.jpg
END:VEVENT
END:VCALENDAR