BEGIN:VCALENDAR
VERSION:2.0
PRODID:-//Kiwanis Casa Loma - ECPv6.15.20//NONSGML v1.0//EN
CALSCALE:GREGORIAN
METHOD:PUBLISH
X-ORIGINAL-URL:https://kiwanisclubcasaloma.ca
X-WR-CALDESC:Events for Kiwanis Casa Loma
REFRESH-INTERVAL;VALUE=DURATION:PT1H
X-Robots-Tag:noindex
X-PUBLISHED-TTL:PT1H
BEGIN:VTIMEZONE
TZID:America/Halifax
BEGIN:DAYLIGHT
TZOFFSETFROM:-0400
TZOFFSETTO:-0300
TZNAME:ADT
DTSTART:20230312T060000
END:DAYLIGHT
BEGIN:STANDARD
TZOFFSETFROM:-0300
TZOFFSETTO:-0400
TZNAME:AST
DTSTART:20231105T050000
END:STANDARD
BEGIN:DAYLIGHT
TZOFFSETFROM:-0400
TZOFFSETTO:-0300
TZNAME:ADT
DTSTART:20240310T060000
END:DAYLIGHT
BEGIN:STANDARD
TZOFFSETFROM:-0300
TZOFFSETTO:-0400
TZNAME:AST
DTSTART:20241103T050000
END:STANDARD
BEGIN:DAYLIGHT
TZOFFSETFROM:-0400
TZOFFSETTO:-0300
TZNAME:ADT
DTSTART:20250309T060000
END:DAYLIGHT
BEGIN:STANDARD
TZOFFSETFROM:-0300
TZOFFSETTO:-0400
TZNAME:AST
DTSTART:20251102T050000
END:STANDARD
END:VTIMEZONE
BEGIN:VEVENT
DTSTART;TZID=America/Halifax:20240225T140000
DTEND;TZID=America/Halifax:20240225T153000
DTSTAMP:20260421T084854
CREATED:20240203T155045Z
LAST-MODIFIED:20240203T160057Z
UID:2497-1708869600-1708875000@kiwanisclubcasaloma.ca
SUMMARY:Kiwanis Music for Kids Social Mix and Mingle
DESCRIPTION:The Kiwanis Club of Casa Loma invites you to Kiwanis Music for Kids Social Mix and Mingle: \nSunday\, February 25\, 2024\n2pm – 3:30pm \nGatherings Restobar\n49 St. Clair Ave West\, Toronto \nCome meet our newest members and learn about our impact on children and our community. \nGroup lunch reservation – individual pays their own. RSVP today\, using the form below: \n\n\n                \n                        \n                             \n                        \n                        Name(Required)\n                            \n                            \n                                                    \n                                                    First\n                                                \n                            \n                            \n                                                    \n                                                    Last\n                                                \n                            \n                        Email(Required)\n                            \n                        Phone(Required)Who are you a guest of?(Required)
URL:https://kiwanisclubcasaloma.ca/event/music-kids-social-mix-mingle/
LOCATION:Gathering Restobar\, 49 St. Clair Ave West\, Toronto\, ON\, M4V 1K6\, Canada
CATEGORIES:Celebration
ATTACH;FMTTYPE=image/jpeg:https://kiwanisclubcasaloma.ca/wp-content/uploads/2024/02/music-mix-mingle.jpg
END:VEVENT
END:VCALENDAR